BEGIN:VCALENDAR
VERSION:2.0
PRODID:icalendar-ruby
CALSCALE:GREGORIAN
METHOD:PUBLISH
BEGIN:VEVENT
DTSTAMP:20260422T113336Z
UID:112-413457@firstcongregationalbranford.org
DTSTART:20260502T200000Z
DTEND:20260502T230000Z
CLASS:PUBLIC
CREATED:20260421T151934
DESCRIPTION:Need a night to unwind? Dinner? Movie? Quiet time? \nWe'lll ta
 ke care of the little ones while you enjoy a worry-free evening out!
LAST-MODIFIED:20260421T151934
LOCATION:First Congregational Church
SUMMARY:Parents' Night Out!
URL;VALUE=URI:https://www.firstcongregationalbranford.org/events/parents-ni
 ght-out/2026-05-02
ATTACH;FILENAME=ConfirmationFundraiser.jpg;FMTTYPE=image/jpeg:https://dq5pw
 pg1q8ru0.cloudfront.net/2026/04/21/19/19/33/f3c3fb0b-6380-4df1-8360-051aa1
 f7dc25/ConfirmationFundraiser.jpg
END:VEVENT
END:VCALENDAR
